BEGIN:VCALENDAR
VERSION:2.0
PRODID:-//Different Planet - ECPv6.15.17.1//NONSGML v1.0//EN
CALSCALE:GREGORIAN
METHOD:PUBLISH
X-WR-CALNAME:Different Planet
X-ORIGINAL-URL:https://diffplanet.net
X-WR-CALDESC:Events for Different Planet
REFRESH-INTERVAL;VALUE=DURATION:PT1H
X-Robots-Tag:noindex
X-PUBLISHED-TTL:PT1H
BEGIN:VTIMEZONE
TZID:UTC
BEGIN:STANDARD
TZOFFSETFROM:+0000
TZOFFSETTO:+0000
TZNAME:UTC
DTSTART:20180101T000000
END:STANDARD
END:VTIMEZONE
BEGIN:VEVENT
DTSTART;TZID=UTC:20191012T190000
DTEND;TZID=UTC:20191012T230000
DTSTAMP:20260423T100728
CREATED:20191005T234234Z
LAST-MODIFIED:20210918T122300Z
UID:57-1570906800-1570921200@diffplanet.net
SUMMARY:Social get-together. Let's meet\, chat and mingle - 'The multicultural mixer'
DESCRIPTION:Bring your smiles and get ready to mingle. It’s all about taking it easy and letting the conversation flow. \nThe Fountain and Ink is a cool bar within walking distance of Waterloo station. They serve a great range of alcoholic and non alcoholic beverages and prepare amazingly delicious pizza on the premises. \nLike many city bars things are much calmer on Saturdays than on heady Friday nights\, making the perfect setting to converse rather than shout. \nLet the good times flow – be there or be square…!
URL:https://diffplanet.net/event/social-get-together-lets-meet-chat-and-mingle-the-multicultural-mixer/
LOCATION:Fountain and Ink\, 52-54 Stamford St\, London\, SE1 9LX
CATEGORIES:Social
ATTACH;FMTTYPE=image/jpeg:https://diffplanet.net/wp-content/uploads/2019/10/ri-1-scaled.jpg
END:VEVENT
END:VCALENDAR